BEGIN:VCALENDAR
VERSION:2.0
PRODID:spatie/icalendar-generator
DESCRIPTION:Veranstaltungen von OMSi Glasergasse 8
X-WR-CALDESC:Veranstaltungen von OMSi Glasergasse 8
REFRESH-INTERVAL;VALUE=DURATION:PT1440M
X-PUBLISHED-TTL:PT1440M
BEGIN:VTIMEZONE
TZID:Europe/Vienna
BEGIN:STANDARD
DTSTART:20201025T030000Z
TZOFFSETFROM:+0200
TZOFFSETTO:+0100
END:STANDARD
BEGIN:DAYLIGHT
DTSTART:20210328T020000Z
TZOFFSETFROM:+0100
TZOFFSETTO:+0200
END:DAYLIGHT
END:VTIMEZONE
BEGIN:VTIMEZONE
TZID:UTC
BEGIN:STANDARD
DTSTART:20250725T005243Z
TZOFFSETFROM:+0000
TZOFFSETTO:+0000
END:STANDARD
END:VTIMEZONE
BEGIN:VEVENT
UID:16-14
DTSTAMP:20260421T005243Z
SUMMARY:Pädagogischer Tag
LOCATION:
ORGANIZER;CN=RUE:MAILTO:david.ruehringer@gmx.at
DTSTART;TZID=Europe/Vienna;VALUE=DATE:20210211
DTEND;TZID=Europe/Vienna;VALUE=DATE:20210212
X-ALT-DESC;FMTTYPE=TEXT/HTML:Unterrichtsende um 10:50.
CATEGORIES:Wichtig
URL;VALUE=URI:https://www.glasergasse8.at/mc-events/paedagogischer-tag/
METHOD:PUBLISH
END:VEVENT
END:VCALENDAR